BEGIN:VCALENDAR
VERSION:2.0
PRODID:hinto.net
X-PUBLISHED-TTL:P1W
BEGIN:VEVENT
UID:hinto.net-event_show-6930752
DTSTART:20260508T220000
SEQUENCE:0
CREATED:20260421T031238
LAST-MODIFIED:20260421T031238
TRANSP:OPAQUE
DTEND:20260509T040000
LOCATION:DEZENT. (ehemals Garage)
SUMMARY:18connected
CLASS:PUBLIC
DESCRIPTION:
ORGANIZER:
DTSTAMP:20260424T141541
ATTACH:https://www.hinto.ch/de/events/18connected-08-05-2026-2200-dezent-(ehemals-garage)-st-gallen-e2852140-20.html
END:VEVENT
END:VCALENDAR
