BEGIN:VCALENDAR
VERSION:2.0
PRODID:hinto.net
X-PUBLISHED-TTL:P1W
BEGIN:VEVENT
UID:hinto.net-event_show-6924709
DTSTART:20260424T173000
SEQUENCE:0
CREATED:20260419T051707
LAST-MODIFIED:20260419T051707
TRANSP:OPAQUE
DTEND:20260424T183000
LOCATION:Orell Füssli Spitalgasse
SUMMARY:Auf ein Glas
CLASS:PUBLIC
DESCRIPTION:
ORGANIZER:
DTSTAMP:20260424T133703
ATTACH:https://www.hinto.ch/de/events/auf-ein-glas-24-04-2026-1730-orell-fussli-spitalgasse-bern-e2700116-20.html
END:VEVENT
END:VCALENDAR
