BEGIN:VCALENDAR
VERSION:2.0
PRODID:hinto.net
X-PUBLISHED-TTL:P1W
BEGIN:VEVENT
UID:hinto.net-event_show-6921650
DTSTART:20260430T100000
SEQUENCE:0
CREATED:20260417T071330
LAST-MODIFIED:20260417T071330
TRANSP:OPAQUE

LOCATION:Installation | WARPED - Base Window
SUMMARY:Installation | WARPED
CLASS:PUBLIC
DESCRIPTION:
ORGANIZER:
DTSTAMP:20260419T175007
ATTACH:https://www.hinto.ch/de/events/installation-warped-30-04-2026-1000-installation-warped-base-window-geneve-e2844494-20.html
END:VEVENT
END:VCALENDAR
