BEGIN:VCALENDAR
VERSION:2.0
PRODID:hinto.net
X-PUBLISHED-TTL:P1W
BEGIN:VEVENT
UID:hinto.net-event_show-6935241
DTSTART:20260426T170000
SEQUENCE:0
CREATED:20260422T052856
LAST-MODIFIED:20260422T052856
TRANSP:OPAQUE
DTEND:20260426T000000
LOCATION:Konzertsaal Solothurn
SUMMARY:Kebyart Saxophon-Quartett
CLASS:PUBLIC
DESCRIPTION:
ORGANIZER:
DTSTAMP:20260424T141857
ATTACH:https://www.hinto.ch/de/events/kebyart-saxophon-quartett-26-04-2026-1700-konzertsaal-solothurn-solothurn-e2854660-20.html
END:VEVENT
END:VCALENDAR
