BEGIN:VCALENDAR
VERSION:2.0
PRODID:hinto.net
X-PUBLISHED-TTL:P1W
BEGIN:VEVENT
UID:hinto.net-event_show-6930725
DTSTART:20260501T234500
SEQUENCE:0
CREATED:20260421T031226
LAST-MODIFIED:20260421T031226
TRANSP:OPAQUE
DTEND:20260502T050000
LOCATION:VIOR
SUMMARY:LSVZ x Core5 WhiteParty
CLASS:PUBLIC
DESCRIPTION:
ORGANIZER:
DTSTAMP:20260424T110113
ATTACH:https://www.hinto.ch/de/events/lsvz-x-core5-whiteparty-01-05-2026-2345-vior-zuerich-e2852113-20.html
END:VEVENT
END:VCALENDAR
