BEGIN:VCALENDAR
VERSION:2.0
PRODID:hinto.net
X-PUBLISHED-TTL:P1W
BEGIN:VEVENT
UID:hinto.net-event_show-6924653
DTSTART:20270521T200000
SEQUENCE:0
CREATED:20260419T051504
LAST-MODIFIED:20260419T051504
TRANSP:OPAQUE
DTEND:20270521T000000
LOCATION:Fauteuil
SUMMARY:William Wahl - wahlweise
CLASS:PUBLIC
DESCRIPTION:
ORGANIZER:
DTSTAMP:20260421T034525
ATTACH:https://www.hinto.ch/de/events/william-wahl-wahlweise-21-05-2027-2000-fauteuil-basel-e2041805-20.html
END:VEVENT
END:VCALENDAR
