BEGIN:VCALENDAR
VERSION:2.0
PRODID:hinto.net
X-PUBLISHED-TTL:P1W
BEGIN:VEVENT
UID:hinto.net-event_show-6830226
DTSTART:20260428T120000
SEQUENCE:0
CREATED:20260319T030603
LAST-MODIFIED:20260319T030603
TRANSP:OPAQUE

LOCATION:CineMovie
SUMMARY:LUNCHKINO: PRIMAVERA
CLASS:PUBLIC
DESCRIPTION:
ORGANIZER:
DTSTAMP:20260424T170932
ATTACH:https://www.hinto.ch/de/events/lunchkino-primavera-28-04-2026-1200-cinemovie-bern-e2765532-20.html
END:VEVENT
END:VCALENDAR
