BEGIN:VCALENDAR
VERSION:2.0
PRODID:hinto.net
X-PUBLISHED-TTL:P1W
BEGIN:VEVENT
UID:hinto.net-event_show-6930634
DTSTART:20260508T230000
SEQUENCE:0
CREATED:20260421T031004
LAST-MODIFIED:20260421T031004
TRANSP:OPAQUE

LOCATION:Nordstern
SUMMARY:Stella Bossi
CLASS:PUBLIC
DESCRIPTION:
ORGANIZER:
DTSTAMP:20260421T092935
ATTACH:https://www.hinto.ch/de/events/stella-bossi-08-05-2026-2300-nordstern-basel-e2852043-20.html
END:VEVENT
END:VCALENDAR
