BEGIN:VCALENDAR
VERSION:2.0
PRODID:hinto.net
X-PUBLISHED-TTL:P1W
BEGIN:VEVENT
UID:hinto.net-event_show-6930104
DTSTART:20260502T200000
SEQUENCE:0
CREATED:20260420T222400
LAST-MODIFIED:20260420T222400
TRANSP:OPAQUE

LOCATION:Teatro Comico
SUMMARY:The Threeman Show
CLASS:PUBLIC
DESCRIPTION:
ORGANIZER:
DTSTAMP:20260425T021549
ATTACH:https://www.hinto.ch/de/events/the-threeman-show-02-05-2026-2000-teatro-comico-sion-e2851890-20.html
END:VEVENT
END:VCALENDAR
