BEGIN:VCALENDAR
VERSION:2.0
PRODID:hinto.net
X-PUBLISHED-TTL:P1W
BEGIN:VEVENT
UID:hinto.net-event_show-6915676
DTSTART:20260511T193000
SEQUENCE:0
CREATED:20260416T040922
LAST-MODIFIED:20260416T040922
TRANSP:OPAQUE

LOCATION:Portier
SUMMARY:Dorian Green (Zürich)
CLASS:PUBLIC
DESCRIPTION:
ORGANIZER:
DTSTAMP:20260425T060557
ATTACH:https://www.hinto.ch/de/events/dorian-green-(zuerich)-11-05-2026-1930-portier-winterthur-e2839216-20.html
END:VEVENT
END:VCALENDAR
