BEGIN:VCALENDAR
VERSION:2.0
PRODID:hinto.net
X-PUBLISHED-TTL:P1W
BEGIN:VEVENT
UID:hinto.net-event_show-6847538
DTSTART:20260523T210000
SEQUENCE:0
CREATED:20260325T014804
LAST-MODIFIED:20260325T014804
TRANSP:OPAQUE

LOCATION:Atlantis
SUMMARY:Tanznacht40
CLASS:PUBLIC
DESCRIPTION:
ORGANIZER:
DTSTAMP:20260425T060640
ATTACH:https://www.hinto.ch/de/events/tanznacht40-23-05-2026-2100-atlantis-basel-e125678-20.html
END:VEVENT
END:VCALENDAR
