BEGIN:VCALENDAR
VERSION:2.0
PRODID:hinto.net
X-PUBLISHED-TTL:P1W
BEGIN:VEVENT
UID:hinto.net-event_show-6939328
DTSTART:20260704T163000
SEQUENCE:0
CREATED:20260422T170112
LAST-MODIFIED:20260422T170112
TRANSP:OPAQUE
DTEND:20260704T000000
LOCATION:Kreuzackerplatz
SUMMARY:Zirkus Chnopf - UFE
CLASS:PUBLIC
DESCRIPTION:
ORGANIZER:
DTSTAMP:20260425T060503
ATTACH:https://www.hinto.ch/de/events/zirkus-chnopf-ufe-04-07-2026-1630-kreuzackerplatz-solothurn-e2854694-20.html
END:VEVENT
END:VCALENDAR
