BEGIN:VCALENDAR
VERSION:2.0
PRODID:hinto.net
X-PUBLISHED-TTL:P1W
BEGIN:VEVENT
UID:hinto.net-event_show-6948528
DTSTART:20260704T180000
SEQUENCE:0
CREATED:20260424T100704
LAST-MODIFIED:20260424T100704
TRANSP:OPAQUE
DTEND:20260704T000000
LOCATION:Festsaal
SUMMARY:Tango Tage Muri
CLASS:PUBLIC
DESCRIPTION:
ORGANIZER:
DTSTAMP:20260424T210840
ATTACH:https://www.hinto.ch/de/events/tango-tage-muri-04-07-2026-1800-festsaal-muri-ag-e2863271-20.html
END:VEVENT
END:VCALENDAR
