BEGIN:VCALENDAR
VERSION:2.0
PRODID:hinto.net
X-PUBLISHED-TTL:P1W
BEGIN:VEVENT
UID:hinto.net-event_show-6826882
DTSTART:20260510T160000
SEQUENCE:0
CREATED:20260318T052221
LAST-MODIFIED:20260318T052221
TRANSP:OPAQUE
DTEND:20260510T180000
LOCATION:ROXY Birsfelden
SUMMARY:Duuredreie
CLASS:PUBLIC
DESCRIPTION:
ORGANIZER:
DTSTAMP:20260425T025749
ATTACH:https://www.hinto.ch/de/events/duuredreie-10-05-2026-1600-roxy-birsfelden-birsfelden-e2762914-20.html
END:VEVENT
END:VCALENDAR
