BEGIN:VCALENDAR
VERSION:2.0
PRODID:hinto.net
X-PUBLISHED-TTL:P1W
BEGIN:VEVENT
UID:hinto.net-event_show-6933092
DTSTART:20260506T173000
SEQUENCE:0
CREATED:20260421T202400
LAST-MODIFIED:20260421T202400
TRANSP:OPAQUE
DTEND:20260506T220000
LOCATION:Rundgang
SUMMARY:Pubquiz
CLASS:PUBLIC
DESCRIPTION:
ORGANIZER:
DTSTAMP:20260424T144603
ATTACH:https://www.hinto.ch/de/events/pubquiz-06-05-2026-1730-rundgang-bern-e2854397-20.html
END:VEVENT
END:VCALENDAR
