BEGIN:VCALENDAR
VERSION:2.0
PRODID:hinto.net
X-PUBLISHED-TTL:P1W
BEGIN:VEVENT
UID:hinto.net-event_show-6933286
DTSTART:20260513T220000
SEQUENCE:0
CREATED:20260422T052154
LAST-MODIFIED:20260422T052154
TRANSP:OPAQUE
DTEND:20260514T050000
LOCATION:Kaschemme
SUMMARY:EMO NIGHT -  SEASON FINALE
CLASS:PUBLIC
DESCRIPTION:
ORGANIZER:
DTSTAMP:20260424T100058
ATTACH:https://www.hinto.ch/de/events/emo-night-season-finale-13-05-2026-2200-kaschemme-basel-e2854464-20.html
END:VEVENT
END:VCALENDAR
