BEGIN:VCALENDAR
VERSION:2.0
PRODID:hinto.net
X-PUBLISHED-TTL:P1W
BEGIN:VEVENT
UID:hinto.net-event_show-6933240
DTSTART:20260430T220000
SEQUENCE:0
CREATED:20260422T052132
LAST-MODIFIED:20260422T052132
TRANSP:OPAQUE
DTEND:20260501T040000
LOCATION:Rok Club
SUMMARY:Springbreak Edition 2
CLASS:PUBLIC
DESCRIPTION:
ORGANIZER:
DTSTAMP:20260424T131230
ATTACH:https://www.hinto.ch/de/events/springbreak-edition-2-30-04-2026-2200-rok-club-luzern-e2854418-20.html
END:VEVENT
END:VCALENDAR
