BEGIN:VCALENDAR
VERSION:2.0
PRODID:hinto.net
X-PUBLISHED-TTL:P1W
BEGIN:VEVENT
UID:hinto.net-event_show-6930053
DTSTART:20260521T200000
SEQUENCE:0
CREATED:20260420T222355
LAST-MODIFIED:20260420T222355
TRANSP:OPAQUE

LOCATION:Toms Beer Box
SUMMARY:Argies
CLASS:PUBLIC
DESCRIPTION:
ORGANIZER:
DTSTAMP:20260421T090742
ATTACH:https://www.hinto.ch/de/events/argies-21-05-2026-2000-toms-beer-box-chur-e2851870-20.html
END:VEVENT
END:VCALENDAR
