BEGIN:VCALENDAR
VERSION:2.0
PRODID:hinto.net
X-PUBLISHED-TTL:P1W
BEGIN:VEVENT
UID:hinto.net-event_show-6930630
DTSTART:20260501T230000
SEQUENCE:0
CREATED:20260421T030958
LAST-MODIFIED:20260421T030958
TRANSP:OPAQUE

LOCATION:Nordstern
SUMMARY:Chris Liebing
CLASS:PUBLIC
DESCRIPTION:
ORGANIZER:
DTSTAMP:20260421T092932
ATTACH:https://www.hinto.ch/de/events/chris-liebing-01-05-2026-2300-nordstern-basel-e2852039-20.html
END:VEVENT
END:VCALENDAR
