BEGIN:VCALENDAR
VERSION:2.0
PRODID:hinto.net
X-PUBLISHED-TTL:P1W
BEGIN:VEVENT
UID:hinto.net-event_show-5252909
DTSTART:20260927T190000
SEQUENCE:0
CREATED:20241123T102431
LAST-MODIFIED:20241123T102431
TRANSP:OPAQUE
DTEND:20260927T212000
LOCATION:Pentorama
SUMMARY:Olaf Schubert & seine Freunde
CLASS:PUBLIC
DESCRIPTION:
ORGANIZER:
DTSTAMP:20260421T082105
ATTACH:https://www.hinto.ch/de/events/olaf-schubert-seine-freunde-27-09-2026-1900-pentorama-amriswil-e1492274-20.html
END:VEVENT
END:VCALENDAR
