BEGIN:VCALENDAR
VERSION:2.0
PRODID:hinto.net
X-PUBLISHED-TTL:P1W
BEGIN:VEVENT
UID:hinto.net-event_show-6933259
DTSTART:20260502T230000
SEQUENCE:0
CREATED:20260422T052140
LAST-MODIFIED:20260422T052140
TRANSP:OPAQUE

LOCATION:Kraftfeld
SUMMARY:Das Lied schläft in der Maschine
CLASS:PUBLIC
DESCRIPTION:
ORGANIZER:
DTSTAMP:20260424T155343
ATTACH:https://www.hinto.ch/de/events/das-lied-schlaeft-in-der-maschine-02-05-2026-2300-kraftfeld-winterthur-e2854437-20.html
END:VEVENT
END:VCALENDAR
