BEGIN:VCALENDAR
VERSION:2.0
PRODID:hinto.net
X-PUBLISHED-TTL:P1W
BEGIN:VEVENT
UID:hinto.net-event_show-6941947
DTSTART:20260508T213000
SEQUENCE:0
CREATED:20260423T031927
LAST-MODIFIED:20260423T031927
TRANSP:OPAQUE

LOCATION:Kraftfeld
SUMMARY:Hukedicht, Monofones, Dj MissBehaving, Vinyl Pirat
CLASS:PUBLIC
DESCRIPTION:
ORGANIZER:
DTSTAMP:20260424T155330
ATTACH:https://www.hinto.ch/de/events/hukedicht-monofones-dj-missbehaving-vinyl-pirat-08-05-2026-2130-kraftfeld-winterthur-e2710269-20.html
END:VEVENT
END:VCALENDAR
