BEGIN:VCALENDAR
VERSION:2.0
PRODID:hinto.net
X-PUBLISHED-TTL:P1W
BEGIN:VEVENT
UID:hinto.net-event_show-6933173
DTSTART:20260426T103000
SEQUENCE:0
CREATED:20260422T052005
LAST-MODIFIED:20260422T052005
TRANSP:OPAQUE
DTEND:20260426T111500
LOCATION:Berner Puppen Theater
SUMMARY:Peter und der Wolf
CLASS:PUBLIC
DESCRIPTION:
ORGANIZER:
DTSTAMP:20260424T100319
ATTACH:https://www.hinto.ch/de/events/peter-und-der-wolf-26-04-2026-1030-berner-puppen-theater-bern-e2851932-20.html
END:VEVENT
END:VCALENDAR
