BEGIN:VCALENDAR
VERSION:2.0
PRODID:hinto.net
X-PUBLISHED-TTL:P1W
BEGIN:VEVENT
UID:hinto.net-event_show-6927954
DTSTART:20260531T100000
SEQUENCE:0
CREATED:20260420T132110
LAST-MODIFIED:20260420T132110
TRANSP:OPAQUE
DTEND:20260531T100000
LOCATION:Friedenskirche
SUMMARY:Gottesdienst mit Kinderzeit
CLASS:PUBLIC
DESCRIPTION:
ORGANIZER:
DTSTAMP:20260420T212200
ATTACH:https://www.hinto.ch/de/events/gottesdienst-mit-kinderzeit-31-05-2026-1000-friedenskirche-bern-e2849894-20.html
END:VEVENT
END:VCALENDAR
