BEGIN:VCALENDAR
VERSION:2.0
PRODID:hinto.net
X-PUBLISHED-TTL:P1W
BEGIN:VEVENT
UID:hinto.net-event_show-6930011
DTSTART:20260502T120000
SEQUENCE:0
CREATED:20260420T222346
LAST-MODIFIED:20260420T222346
TRANSP:OPAQUE

LOCATION:Werkstatt Chur
SUMMARY:Jassturnier
CLASS:PUBLIC
DESCRIPTION:
ORGANIZER:
DTSTAMP:20260421T062820
ATTACH:https://www.hinto.ch/de/events/jassturnier-02-05-2026-1200-werkstatt-chur-chur-e2851838-20.html
END:VEVENT
END:VCALENDAR
