BEGIN:VCALENDAR
VERSION:2.0
PRODID:hinto.net
X-PUBLISHED-TTL:P1W
BEGIN:VEVENT
UID:hinto.net-event_show-6948310
DTSTART:20260428T193000
SEQUENCE:0
CREATED:20260424T100641
LAST-MODIFIED:20260424T100641
TRANSP:OPAQUE

LOCATION:ONO Das Kulturlokal
SUMMARY:KIM CORTI - WALDSAMKEIT
CLASS:PUBLIC
DESCRIPTION:
ORGANIZER:
DTSTAMP:20260425T041719
ATTACH:https://www.hinto.ch/de/events/kim-corti-waldsamkeit-28-04-2026-1930-ono-das-kulturlokal-bern-e2863251-20.html
END:VEVENT
END:VCALENDAR
