BEGIN:VCALENDAR
VERSION:2.0
PRODID:hinto.net
X-PUBLISHED-TTL:P1W
BEGIN:VEVENT
UID:hinto.net-event_show-6814584
DTSTART:20260508T193000
SEQUENCE:0
CREATED:20260313T172644
LAST-MODIFIED:20260313T172644
TRANSP:OPAQUE

LOCATION:Ref. Kirchgemeindehaus Bümpliz
SUMMARY:1. Schlosskonzert Bümpliz
CLASS:PUBLIC
DESCRIPTION:
ORGANIZER:
DTSTAMP:20260424T062001
ATTACH:https://www.hinto.ch/de/events/1-schlosskonzert-buempliz-08-05-2026-1930-ref-kirchgemeindehaus-buempliz-bern-e2752927-20.html
END:VEVENT
END:VCALENDAR
