BEGIN:VCALENDAR
VERSION:2.0
PRODID:hinto.net
X-PUBLISHED-TTL:P1W
BEGIN:VEVENT
UID:hinto.net-event_show-6925629
DTSTART:20260509T110000
SEQUENCE:0
CREATED:20260419T052302
LAST-MODIFIED:20260419T052302
TRANSP:OPAQUE

LOCATION:Bodenseeforum
SUMMARY:19. Konstanzer Jazzgipfel
CLASS:PUBLIC
DESCRIPTION:
ORGANIZER:
DTSTAMP:20260419T182211
ATTACH:https://www.hinto.ch/de/events/19-konstanzer-jazzgipfel-09-05-2026-1100-bodenseeforum-konstanz-e2847604-20.html
END:VEVENT
END:VCALENDAR
