BEGIN:VCALENDAR
VERSION:2.0
PRODID:hinto.net
X-PUBLISHED-TTL:P1W
BEGIN:VEVENT
UID:hinto.net-event_show-6863004
DTSTART:20260419T123500
SEQUENCE:0
CREATED:20260329T152039
LAST-MODIFIED:20260329T152039
TRANSP:OPAQUE
DTEND:20260419T145000
LOCATION:
SUMMARY:3+: Bauer, ledig, sucht...
CLASS:PUBLIC
DESCRIPTION:
ORGANIZER:
DTSTAMP:20260419T181037
ATTACH:https://www.hinto.ch/de/events/3+-bauer-ledig-sucht-19-04-2026-1235-e2793620-20.html
END:VEVENT
END:VCALENDAR
