BEGIN:VCALENDAR
VERSION:2.0
PRODID:hinto.net
X-PUBLISHED-TTL:P1W
BEGIN:VEVENT
UID:hinto.net-event_show-6863510
DTSTART:20260419T201500
SEQUENCE:0
CREATED:20260418T065254
LAST-MODIFIED:20260418T065254
TRANSP:OPAQUE
DTEND:20260419T210000
LOCATION:
SUMMARY:5+: Fire Country
CLASS:PUBLIC
DESCRIPTION:
ORGANIZER:
DTSTAMP:20260420T063936
ATTACH:https://www.hinto.ch/de/events/5+-fire-country-19-04-2026-2015-e2794126-20.html
END:VEVENT
END:VCALENDAR
