BEGIN:VCALENDAR
VERSION:2.0
PRODID:hinto.net
X-PUBLISHED-TTL:P1W
BEGIN:VEVENT
UID:hinto.net-event_show-6748670
DTSTART:20260417T180000
SEQUENCE:0
CREATED:20260225T030023
LAST-MODIFIED:20260225T030023
TRANSP:OPAQUE
DTEND:20260417T220000
LOCATION:MINI Café Bar
SUMMARY:50+ Afterwork Drinks�� - Singles only.
CLASS:PUBLIC
DESCRIPTION:
ORGANIZER:
DTSTAMP:20260420T175422
ATTACH:https://www.hinto.ch/de/events/50+-afterwork-drinks-singles-only-17-04-2026-1800-mini-cafe-bar-zuerich-e2707336-20.html
END:VEVENT
END:VCALENDAR
