BEGIN:VCALENDAR
VERSION:2.0
PRODID:hinto.net
X-PUBLISHED-TTL:P1W
BEGIN:VEVENT
UID:hinto.net-event_show-6912914
DTSTART:20270424T100000
SEQUENCE:0
CREATED:20260415T094349
LAST-MODIFIED:20260415T094349
TRANSP:OPAQUE
DTEND:20270424T170000
LOCATION:Sternensaal Bümpliz
SUMMARY:Berner Schallplatten & CD Börse
CLASS:PUBLIC
DESCRIPTION:
ORGANIZER:
DTSTAMP:20260424T055207
ATTACH:https://www.hinto.ch/de/events/berner-schallplatten-cd-boerse-24-04-2027-1000-sternensaal-buempliz-bern-e2443421-20.html
END:VEVENT
END:VCALENDAR
