BEGIN:VCALENDAR
VERSION:2.0
PRODID:hinto.net
X-PUBLISHED-TTL:P1W
BEGIN:VEVENT
UID:hinto.net-event_show-1446779
DTSTART:20220319T210000
SEQUENCE:0
CREATED:20240826T232928
LAST-MODIFIED:20240826T232928
TRANSP:OPAQUE

LOCATION:Z88
SUMMARY:a beautiful mind
CLASS:PUBLIC
DESCRIPTION:
ORGANIZER:
DTSTAMP:20260420T201314
ATTACH:https://www.hinto.ch/de/events/a-beautiful-mind-19-03-2022-2100-z88-kreuzlingen-e129863-20.html
END:VEVENT
END:VCALENDAR
