BEGIN:VCALENDAR
VERSION:2.0
PRODID:hinto.net
X-PUBLISHED-TTL:P1W
BEGIN:VEVENT
UID:hinto.net-event_show-6876681
DTSTART:20260417T180000
SEQUENCE:0
CREATED:20260402T093759
LAST-MODIFIED:20260402T093759
TRANSP:OPAQUE

LOCATION:Musée du Vin, Sierre
SUMMARY:À l’heure de l’apéro
CLASS:PUBLIC
DESCRIPTION:
ORGANIZER:
DTSTAMP:20260419T230846
ATTACH:https://www.hinto.ch/de/events/a-lrheure-de-lrapero-17-04-2026-1800-musee-du-vin-sierre-sierre-e2804875-20.html
END:VEVENT
END:VCALENDAR
