BEGIN:VCALENDAR
VERSION:2.0
PRODID:hinto.net
X-PUBLISHED-TTL:P1W
BEGIN:VEVENT
UID:hinto.net-event_show-6929961
DTSTART:20260430T200000
SEQUENCE:0
CREATED:20260420T222337
LAST-MODIFIED:20260420T222337
TRANSP:OPAQUE

LOCATION:Zeughaus Kultur
SUMMARY:Abusitz
CLASS:PUBLIC
DESCRIPTION:
ORGANIZER:
DTSTAMP:20260425T061249
ATTACH:https://www.hinto.ch/de/events/abusitz-30-04-2026-2000-zeughaus-kultur-brig-e2851812-20.html
END:VEVENT
END:VCALENDAR
