BEGIN:VCALENDAR
VERSION:2.0
PRODID:hinto.net
X-PUBLISHED-TTL:P1W
BEGIN:VEVENT
UID:hinto.net-event_show-6912979
DTSTART:20260613T094400
SEQUENCE:0
CREATED:20260415T094412
LAST-MODIFIED:20260415T094412
TRANSP:OPAQUE
DTEND:20260613T000000
LOCATION:Luftseilbahn Intschi-Arnisee
SUMMARY:Alpenrosen am Arnisee
CLASS:PUBLIC
DESCRIPTION:
ORGANIZER:
DTSTAMP:20260419T235956
ATTACH:https://www.hinto.ch/de/events/alpenrosen-am-arnisee-13-06-2026-0944-luftseilbahn-intschi-arnisee-intschi-e2836669-20.html
END:VEVENT
END:VCALENDAR
