BEGIN:VCALENDAR
VERSION:2.0
PRODID:hinto.net
X-PUBLISHED-TTL:P1W
BEGIN:VEVENT
UID:hinto.net-event_show-6862952
DTSTART:20260419T164500
SEQUENCE:0
CREATED:20260329T151700
LAST-MODIFIED:20260329T151700
TRANSP:OPAQUE
DTEND:20260419T174000
LOCATION:
SUMMARY:Arte: Das Einhorn. Kulturgeschichte einer Sehnsucht
CLASS:PUBLIC
DESCRIPTION:
ORGANIZER:
DTSTAMP:20260420T225513
ATTACH:https://www.hinto.ch/de/events/arte-das-einhorn-kulturgeschichte-einer-sehnsucht-19-04-2026-1645-e2793568-20.html
END:VEVENT
END:VCALENDAR
