BEGIN:VCALENDAR
VERSION:2.0
PRODID:hinto.net
X-PUBLISHED-TTL:P1W
BEGIN:VEVENT
UID:hinto.net-event_show-6862957
DTSTART:20260419T193000
SEQUENCE:0
CREATED:20260329T151704
LAST-MODIFIED:20260329T151704
TRANSP:OPAQUE
DTEND:20260419T201500
LOCATION:
SUMMARY:Arte: Leben mit Löwen
CLASS:PUBLIC
DESCRIPTION:
ORGANIZER:
DTSTAMP:20260420T054315
ATTACH:https://www.hinto.ch/de/events/arte-leben-mit-loewen-19-04-2026-1930-e2793573-20.html
END:VEVENT
END:VCALENDAR
