BEGIN:VCALENDAR
VERSION:2.0
PRODID:hinto.net
X-PUBLISHED-TTL:P1W
BEGIN:VEVENT
UID:hinto.net-event_show-6862950
DTSTART:20260419T124500
SEQUENCE:0
CREATED:20260329T151657
LAST-MODIFIED:20260329T151657
TRANSP:OPAQUE
DTEND:20260419T134000
LOCATION:
SUMMARY:Arte: Pompeji, Geschichte einer Katastrophe
CLASS:PUBLIC
DESCRIPTION:
ORGANIZER:
DTSTAMP:20260419T181017
ATTACH:https://www.hinto.ch/de/events/arte-pompeji-geschichte-einer-katastrophe-19-04-2026-1245-e2793566-20.html
END:VEVENT
END:VCALENDAR
