BEGIN:VCALENDAR
VERSION:2.0
PRODID:hinto.net
X-PUBLISHED-TTL:P1W
BEGIN:VEVENT
UID:hinto.net-event_show-6393785
DTSTART:20260607T101500
SEQUENCE:0
CREATED:20251029T031442
LAST-MODIFIED:20251029T031442
TRANSP:OPAQUE
DTEND:20260607T181500
LOCATION:Iselisberg
SUMMARY:Autobiographisches Schreiben
CLASS:PUBLIC
DESCRIPTION:
ORGANIZER:
DTSTAMP:20260421T053848
ATTACH:https://www.hinto.ch/de/events/autobiographisches-schreiben-07-06-2026-1015-iselisberg-uesslingen-e1954135-20.html
END:VEVENT
END:VCALENDAR
