BEGIN:VCALENDAR
VERSION:2.0
PRODID:hinto.net
X-PUBLISHED-TTL:P1W
BEGIN:VEVENT
UID:hinto.net-event_show-6925198
DTSTART:20260423T200000
SEQUENCE:0
CREATED:20260419T052043
LAST-MODIFIED:20260419T052043
TRANSP:OPAQUE

LOCATION:Mühle Hunziken
SUMMARY:Baze
CLASS:PUBLIC
DESCRIPTION:
ORGANIZER:
DTSTAMP:20260420T002958
ATTACH:https://www.hinto.ch/de/events/baze-23-04-2026-2000-muehle-hunziken-rubigen-e2847334-20.html
END:VEVENT
END:VCALENDAR
