BEGIN:VCALENDAR
VERSION:2.0
PRODID:hinto.net
X-PUBLISHED-TTL:P1W
BEGIN:VEVENT
UID:hinto.net-event_show-6285884
DTSTART:20260424T093000
SEQUENCE:0
CREATED:20260226T052355
LAST-MODIFIED:20260226T052355
TRANSP:OPAQUE

LOCATION:Mediathek Visp
SUMMARY:BIMUKI
CLASS:PUBLIC
DESCRIPTION:
ORGANIZER:
DTSTAMP:20260420T021128
ATTACH:https://www.hinto.ch/de/events/bimuki-24-04-2026-0930-mediathek-visp-visp-e2308690-20.html
END:VEVENT
END:VCALENDAR
