BEGIN:VCALENDAR
VERSION:2.0
PRODID:hinto.net
X-PUBLISHED-TTL:P1W
BEGIN:VEVENT
UID:hinto.net-event_show-6876491
DTSTART:20260506T203000
SEQUENCE:0
CREATED:20260402T093431
LAST-MODIFIED:20260402T093431
TRANSP:OPAQUE

LOCATION:Theater Neumarkt
SUMMARY:Blaupause
CLASS:PUBLIC
DESCRIPTION:
ORGANIZER:
DTSTAMP:20260421T034510
ATTACH:https://www.hinto.ch/de/events/blaupause-06-05-2026-2030-theater-neumarkt-zuerich-e2258075-20.html
END:VEVENT
END:VCALENDAR
