BEGIN:VCALENDAR
VERSION:2.0
PRODID:hinto.net
X-PUBLISHED-TTL:P1W
BEGIN:VEVENT
UID:hinto.net-event_show-5390045
DTSTART:20271219T100000
SEQUENCE:0
CREATED:20241219T065138
LAST-MODIFIED:20241219T065138
TRANSP:OPAQUE
DTEND:20271219T170000
LOCATION:Museum Luzern
SUMMARY:Blickwinkel-Kabinett
CLASS:PUBLIC
DESCRIPTION:
ORGANIZER:
DTSTAMP:20260424T043506
ATTACH:https://www.hinto.ch/de/events/blickwinkel-kabinett-19-12-2027-1000-museum-luzern-luzern-e280769-20.html
END:VEVENT
END:VCALENDAR
