BEGIN:VCALENDAR
VERSION:2.0
PRODID:hinto.net
X-PUBLISHED-TTL:P1W
BEGIN:VEVENT
UID:hinto.net-event_show-5109032
DTSTART:20271024T100000
SEQUENCE:0
CREATED:20241024T123455
LAST-MODIFIED:20241024T123455
TRANSP:OPAQUE
DTEND:20271024T170000
LOCATION:Museum Luzern
SUMMARY:Blickwinkel-Kabinett
CLASS:PUBLIC
DESCRIPTION:
ORGANIZER:
DTSTAMP:20260424T062612
ATTACH:https://www.hinto.ch/de/events/blickwinkel-kabinett-24-10-2027-1000-museum-luzern-luzern-e280769-20.html
END:VEVENT
END:VCALENDAR
