BEGIN:VCALENDAR
VERSION:2.0
PRODID:hinto.net
X-PUBLISHED-TTL:P1W
BEGIN:VEVENT
UID:hinto.net-event_show-4841960
DTSTART:20270831T100000
SEQUENCE:0
CREATED:20240831T065516
LAST-MODIFIED:20240831T065516
TRANSP:OPAQUE
DTEND:20270831T170000
LOCATION:Museum Luzern
SUMMARY:Blickwinkel-Kabinett
CLASS:PUBLIC
DESCRIPTION:
ORGANIZER:
DTSTAMP:20260424T171332
ATTACH:https://www.hinto.ch/de/events/blickwinkel-kabinett-31-08-2027-1000-museum-luzern-luzern-e280769-20.html
END:VEVENT
END:VCALENDAR
