BEGIN:VCALENDAR
VERSION:2.0
PRODID:hinto.net
X-PUBLISHED-TTL:P1W
BEGIN:VEVENT
UID:hinto.net-event_show-6833741
DTSTART:20260420T190000
SEQUENCE:0
CREATED:20260320T071939
LAST-MODIFIED:20260320T071939
TRANSP:OPAQUE
DTEND:20260420T221500
LOCATION:Samariterverein Kloten
SUMMARY:BLS-AED-SRC Komplett
CLASS:PUBLIC
DESCRIPTION:
ORGANIZER:
DTSTAMP:20260421T064048
ATTACH:https://www.hinto.ch/de/events/bls-aed-src-komplett-20-04-2026-1900-samariterverein-kloten-kloten-e2768347-20.html
END:VEVENT
END:VCALENDAR
