BEGIN:VCALENDAR
VERSION:2.0
PRODID:hinto.net
X-PUBLISHED-TTL:P1W
BEGIN:VEVENT
UID:hinto.net-event_show-6924725
DTSTART:20260425T100000
SEQUENCE:0
CREATED:20260419T051724
LAST-MODIFIED:20260419T051724
TRANSP:OPAQUE
DTEND:20260425T140000
LOCATION:Haus der Religionen
SUMMARY:Brunch Interkulturell: TAMILISCH
CLASS:PUBLIC
DESCRIPTION:
ORGANIZER:
DTSTAMP:20260421T070115
ATTACH:https://www.hinto.ch/de/events/brunch-interkulturell-tamilisch-25-04-2026-1000-haus-der-religionen-bern-e2805159-20.html
END:VEVENT
END:VCALENDAR
