BEGIN:VCALENDAR
VERSION:2.0
PRODID:hinto.net
X-PUBLISHED-TTL:P1W
BEGIN:VEVENT
UID:hinto.net-event_show-6355651
DTSTART:20260524T100500
SEQUENCE:0
CREATED:20251017T100007
LAST-MODIFIED:20251017T100007
TRANSP:OPAQUE
DTEND:20260524T122500
LOCATION:Schiffsteg Bürkliplatz
SUMMARY:Brunch-Schiff
CLASS:PUBLIC
DESCRIPTION:
ORGANIZER:
DTSTAMP:20260424T061404
ATTACH:https://www.hinto.ch/de/events/brunch-schiff-24-05-2026-1005-schiffsteg-buerkliplatz-zuerich-e2368836-20.html
END:VEVENT
END:VCALENDAR
