BEGIN:VCALENDAR
VERSION:2.0
PRODID:hinto.net
X-PUBLISHED-TTL:P1W
BEGIN:VEVENT
UID:hinto.net-event_show-6839636
DTSTART:20260417T121500
SEQUENCE:0
CREATED:20260322T044936
LAST-MODIFIED:20260322T044936
TRANSP:OPAQUE

LOCATION:Kino Cameo
SUMMARY:Calle Málaga
CLASS:PUBLIC
DESCRIPTION:
ORGANIZER:
DTSTAMP:20260421T043158
ATTACH:https://www.hinto.ch/de/events/calle-malaga-17-04-2026-1215-kino-cameo-winterthur-e2673082-20.html
END:VEVENT
END:VCALENDAR
